BEGIN:VCALENDAR
VERSION:2.0
PRODID:-//Muskoka Chautauqua - ECPv6.15.20//NONSGML v1.0//EN
CALSCALE:GREGORIAN
METHOD:PUBLISH
X-ORIGINAL-URL:https://www.muskokachautauqua.com
X-WR-CALDESC:Events for Muskoka Chautauqua
REFRESH-INTERVAL;VALUE=DURATION:PT1H
X-Robots-Tag:noindex
X-PUBLISHED-TTL:PT1H
BEGIN:VTIMEZONE
TZID:America/Toronto
BEGIN:DAYLIGHT
TZOFFSETFROM:-0500
TZOFFSETTO:-0400
TZNAME:EDT
DTSTART:20240310T070000
END:DAYLIGHT
BEGIN:STANDARD
TZOFFSETFROM:-0400
TZOFFSETTO:-0500
TZNAME:EST
DTSTART:20241103T060000
END:STANDARD
BEGIN:DAYLIGHT
TZOFFSETFROM:-0500
TZOFFSETTO:-0400
TZNAME:EDT
DTSTART:20250309T070000
END:DAYLIGHT
BEGIN:STANDARD
TZOFFSETFROM:-0400
TZOFFSETTO:-0500
TZNAME:EST
DTSTART:20251102T060000
END:STANDARD
BEGIN:DAYLIGHT
TZOFFSETFROM:-0500
TZOFFSETTO:-0400
TZNAME:EDT
DTSTART:20260308T070000
END:DAYLIGHT
BEGIN:STANDARD
TZOFFSETFROM:-0400
TZOFFSETTO:-0500
TZNAME:EST
DTSTART:20261101T060000
END:STANDARD
END:VTIMEZONE
BEGIN:VEVENT
DTSTART;TZID=America/Toronto:20250801T130000
DTEND;TZID=America/Toronto:20250810T160000
DTSTAMP:20260422T200902
CREATED:20250727T133139Z
LAST-MODIFIED:20250810T163542Z
UID:10000783-1754053200-1754841600@www.muskokachautauqua.com
SUMMARY:Festival Pass
DESCRIPTION:Access to all of our evening concerts and the majority of daytime events. 10% savings from what purchasing each event individually would be.\n\n\nGain access to all of our evening concerts: \nNorthern Lights Steel Orchestra (Aug 1\, 7:30 – 9:00 PM ) \nCaroline Marie Brooks (Aug 2\, 7:30 – 9:00 PM) \nIsla Maria (Aug 3\, 7:30 – 9:00 PM) \nBeverlie Robertson & Friends (Aug 4\, 7:30 – 9:00 PM) \nTaizé Candlelit Service (Aug 5\, 6:30 – 7:30 PM) \nToronto All Star Big Band (Aug 7\, 7:30 – 9:00 PM) \nHer Romance (Aug 8\, 7:30 – 9:00 PM) \nSultans of Strings (Aug 9\, 7:30 – 9:00 PM) \n \nAswell as the following day time events: \nFestival Welcome & Opening ( Aug 1\, 3:00 PM) \nGallery Opening (Aug 1\, 4:00 PM) \nPop-Up Gallery in the Wood (Aug 2-9) \nPop-Up Bookshop (Aug 2-9) \nGuided Walking Tour (Aug 2-9 \,12:00 PM) \nAuthor Insights with Jeff Wilson (Aug 2\, 4:00 PM) \nMeet & Greet with the Artists (Aug 2\, 4\, 5\, 8\, 4:30) at Windermere House Pub \nClassical Lunch with Jen Tung ( Aug 3\, 12:30 PM) \nAuthor Insights with Patrick Boyer (Aug 3\, 4:00 PM) \nSpiral Flow with Audrey Jolly (Aug 4\, 9:30 AM) \nAuthor Insights with Audrey Jolly (Aug 4\, 4:00 PM) \nAuthor Insights with Sean O’Toole (Aug 5\, 4:00 PM) \nCommunity Conversation (Aug 6\, 3:30 PM) \nFlow Session with Pam Hubbard (Aug 7\,8\, 9:30 AM) \nAuthor Insights with Phillipa Cranston-Baran (Aug 8\, 4:00 PM) \nFamily Fun Day (Aug 10\, 11:00 AM)
URL:https://www.muskokachautauqua.com/event/whole-festival-evening-and-partial-day-pass/
LOCATION:Muskoka Chautauqua: Theatre in the Woods\, 1039 Golf Avenue\, Windermere Village\, ON\, P0B 1P0\, Canada
ATTACH;FMTTYPE=image/jpeg:https://www.muskokachautauqua.com/wp-content/uploads/2025/07/73775244837b8b0e78c01b32aeba5777-CFDJcB.tmp_.jpg
GEO:45.1665319;-79.5528834
X-APPLE-STRUCTURED-LOCATION;VALUE=URI;X-ADDRESS=Muskoka Chautauqua: Theatre in the Woods 1039 Golf Avenue Windermere Village ON P0B 1P0 Canada;X-APPLE-RADIUS=500;X-TITLE=1039 Golf Avenue:geo:-79.5528834,45.1665319
END:VEVENT
BEGIN:VEVENT
DTSTART;TZID=America/Toronto:20250803T100000
DTEND;TZID=America/Toronto:20250803T160000
DTSTAMP:20260422T200902
CREATED:20250606T160359Z
LAST-MODIFIED:20250803T164936Z
UID:10000725-1754215200-1754236800@www.muskokachautauqua.com
SUMMARY:Gallery in The Woods: "The Muse\, the Maker & the Creative Flow"
DESCRIPTION:Come visit our art gallery\, filled with art from our festival workshop leaders\, open at 10 AM August 2-9.\n\n\n*A ticket is not required for entry to the Gallery in the Woods \nVisit the Gallery in the Woods each day from August 2nd-9th starting at 10 AM at our Festival Site! See below for the Exhibition Statement for this body of featured work: \nThe Muse\, The Maker\, and the Creative Flow is an exploration of artistic inspiration\, craftsmanship\, and the dynamic energy that connects them. We delve into the relationship between the visionary spark\, the act of creation\, and the fluid movement of ideas that shape our work. \nArtists and creators are guided by a muse\, driven by a maker’s hand\, and carried by the creative flow that transforms raw material into expression. Whether through paint\, sculpture\, mixed media\, writing or making music\, our works embody the tension and harmony between idea and execution\, chaos and structure\, intuition and intention. \nLike a river that bends and reshapes its course\, creativity is ever-moving\, influenced by unseen currents and inner dialogues. We invite viewers to step into that stream—to witness the push and pull between inspiration and craft\, to feel the rhythm that fuels artistic practice\, and to reflect on their own place within the cycle of creation. \nVisit the Gallery in the Woods to view beautiful works from the following artists: \n\nToller Cranston \nMiranda Britton\nGayle Dempsey\nGreg Hindle\nSusan Hindle\nAudrey Jolly\nKaren Lang\nLinda Montgomery\nBonnie Newell\nLisa Skelding\nSharon Wagner-Chazalon\n\nDining in Windermere during the Festival? \nEnjoy a 10% discount on all food and non-alcoholic beverages from Windermere House Pub during the festival! Show your tickets to the staff for the discount to be applied. Enjoy!
URL:https://www.muskokachautauqua.com/event/gallery-in-the-woods-11/
LOCATION:Muskoka Chautauqua: Gallery in the Woods\, 1039 Golf Avenue\, Windermere Village\, ON\, P0B 1P0\, Canada
ATTACH;FMTTYPE=image/jpeg:https://www.muskokachautauqua.com/wp-content/uploads/2025/06/650e62c60e610d7e75df1dc3829624aa-bODeVR.tmp_.jpg
GEO:45.1656304;-79.5531233
X-APPLE-STRUCTURED-LOCATION;VALUE=URI;X-ADDRESS=Muskoka Chautauqua: Gallery in the Woods 1039 Golf Avenue Windermere Village ON P0B 1P0 Canada;X-APPLE-RADIUS=500;X-TITLE=1039 Golf Avenue:geo:-79.5531233,45.1656304
END:VEVENT
BEGIN:VEVENT
DTSTART;TZID=America/Toronto:20250803T100000
DTEND;TZID=America/Toronto:20250803T160000
DTSTAMP:20260422T200902
CREATED:20250611T154816Z
LAST-MODIFIED:20250803T164940Z
UID:10000769-1754215200-1754236800@www.muskokachautauqua.com
SUMMARY:Pop-Up Book Shop
DESCRIPTION:Our Book Shop is open throughout the festival\, August 2-9\, every day\, 10am-4pm. Come browse and purchase books from our literary guests!\n\n\n*A ticket is not required for entry into the bookstore \nThe muse\, the maker\, and the creative flow. \nThe Book Shop is our unofficial welcome centre for the Festival as well as a host of beautiful works including books by some of our Chautauqua Festival line up as well as other local authors. \nThis year\, we are thrilled to welcome the Alcuin Society Award-Winning Books for Excellence in Book Design back to the festival! Don’t miss the opportunity to see the 2024 winners on display. \nDining in Windermere during the Festival? \nEnjoy a 10% discount on all food and non-alcoholic beverages from Windermere House Pub during the festival! Show your tickets to the staff for the discount to be applied. Enjoy!
URL:https://www.muskokachautauqua.com/event/pop-up-book-shop-the-muse-the-maker-the-creative-flow-2/
LOCATION:2496 Windermere Rd\, 2496 Windermere Road\, Windermere\, ON\, P0B 1P0\, Canada
ATTACH;FMTTYPE=image/jpeg:https://www.muskokachautauqua.com/wp-content/uploads/2025/06/b26b0bc6936d9d51f5f2fcf814d00f1b-WxlZDL.tmp_.jpg
GEO:45.1656948;-79.5486134
X-APPLE-STRUCTURED-LOCATION;VALUE=URI;X-ADDRESS=2496 Windermere Rd 2496 Windermere Road Windermere ON P0B 1P0 Canada;X-APPLE-RADIUS=500;X-TITLE=2496 Windermere Road:geo:-79.5486134,45.1656948
END:VEVENT
BEGIN:VEVENT
DTSTART;TZID=America/Toronto:20250803T120000
DTEND;TZID=America/Toronto:20250803T130000
DTSTAMP:20260422T200902
CREATED:20250606T160236Z
LAST-MODIFIED:20250803T164942Z
UID:10000717-1754222400-1754226000@www.muskokachautauqua.com
SUMMARY:Windermere History Walking Tour (Sun Aug 3)
DESCRIPTION:Uncover the unique charm of Windermere Village through this walking tour created in partnership with the Windermere Women’s Institute.\n\n\nWindermere History Walking Tour on Sunday\, August 3rd \nDid you know Muskoka Chautauqua started in Windermere more than 100 years ago? \nRediscover this charming historic village with us through a walking tour created in partnership with the Windermere History project\, the Windermere Women’s Institute\, Architectural Conservancy Ontario (Muskoka Branch) and Muskoka Chautauqua. \nThis small group tour will give you an overview of the early history of the village along with some interesting anecdotal stories. The guided tour is available daily from Saturday to Saturday during the festival\, or you can access the tour on our app (https://windermerehistoryproject.ca/dl/d0a5f4) …and make you way around the village on a self-guided tour. \nDining in Windermere during the Festival? \nEnjoy a 10% discount on all food and non-alcoholic beverages from Windermere House Pub during the festival! Show your tickets to the staff for the discount to be applied. Enjoy!
URL:https://www.muskokachautauqua.com/event/windermere-history-walking-tour-sun-aug-3/
LOCATION:Muskoka Chautauqua\, 1039 Golf Avenue\, Windermere Village\, ON\, P0B 1P0\, Canada
ATTACH;FMTTYPE=image/jpeg:https://www.muskokachautauqua.com/wp-content/uploads/2025/06/480c45d399abd24a9e08fffc69d96f7f-i5mrCC.tmp_.jpg
GEO:45.1665319;-79.5528834
X-APPLE-STRUCTURED-LOCATION;VALUE=URI;X-ADDRESS=Muskoka Chautauqua 1039 Golf Avenue Windermere Village ON P0B 1P0 Canada;X-APPLE-RADIUS=500;X-TITLE=1039 Golf Avenue:geo:-79.5528834,45.1665319
END:VEVENT
BEGIN:VEVENT
DTSTART;TZID=America/Toronto:20250803T123000
DTEND;TZID=America/Toronto:20250803T150000
DTSTAMP:20260422T200902
CREATED:20250626T143424Z
LAST-MODIFIED:20250803T164944Z
UID:10000740-1754224200-1754233200@www.muskokachautauqua.com
SUMMARY:Classical Lunch with Jennifer Tung & Ivan Jovanovic
DESCRIPTION:Join us for an afternoon operatic vocal music following lunch in the garden\, generously provided by Christ Church Windermere.\n\n\nJoin us for an enchanting afternoon of opera featuring the extraordinary Jennifer Tung\, accompanied by the accomplished Ivan Jovanovic on piano. Centred on the themes of creation and nature\, this concert promises a captivating journey through powerful vocal works. \nWe are deeply grateful to Windermere Christ Church for providing this beautiful venue and offering lunch to all attendees. Don’t miss this opportunity to be transported by the artistry of these remarkable performers. \nDining in Windermere during the Festival? \nEnjoy a 10% discount on all food and non-alcoholic beverages from Windermere House Pub during the festival! Show your tickets to the staff for the discount to be applied. Enjoy!
URL:https://www.muskokachautauqua.com/event/classical-lunch-with-jennifer-tung-ivan-jovanovic/
LOCATION:Christ Church\, 1018 Fife Avenue\, Windermere\, ON\, P0B 1P0\, Canada
ATTACH;FMTTYPE=image/jpeg:https://www.muskokachautauqua.com/wp-content/uploads/2025/06/1aa0e15ff7e4719576b95147468b81d5-1Bodrg.tmp_.jpg
GEO:45.1652264;-79.551145
X-APPLE-STRUCTURED-LOCATION;VALUE=URI;X-ADDRESS=Christ Church 1018 Fife Avenue Windermere ON P0B 1P0 Canada;X-APPLE-RADIUS=500;X-TITLE=1018 Fife Avenue:geo:-79.551145,45.1652264
END:VEVENT
BEGIN:VEVENT
DTSTART;TZID=America/Toronto:20250803T160000
DTEND;TZID=America/Toronto:20250803T173000
DTSTAMP:20260422T200902
CREATED:20250610T145121Z
LAST-MODIFIED:20250803T164946Z
UID:10000746-1754236800-1754242200@www.muskokachautauqua.com
SUMMARY:'The 3 Faces of Chautauqua in Muskoka' with Patrick Boyer
DESCRIPTION:Enjoy an intimate reading and talk at the Theatre in the Woods with Patrick Boyer.\n\n\n‘The 3 Faces of Chautauqua in Muskoka’ with Patrick Boyer \nAn afternoon talk at the Theatre in the Woods about the positive impacts on Canadian culture of the Muskoka Chautauqua Assembly (“Canada’s Literary Chautauqua”); the Circuit Chautauqua performances in the touring Big Tent shows at Bracebridge\, Huntsville\, and Gravenhurst; and the movement’s unique contemporary revival with today’s Muskoka Chautauqua Festival. \nThe event will also serve as a launch of the author’s latest book with its extensive treatment of Muskoka’s Chautauqua story\, richly illustrated with heritage photographs. Copies will be available for purchase and author’s signing. \nDining in Windermere during the Festival? \nEnjoy a 10% discount on all food and non-alcoholic beverages from Windermere House Pub during the festival! Show your tickets to the staff for the discount to be applied. Enjoy!
URL:https://www.muskokachautauqua.com/event/a-reading-talk-with-patrick-boyer/
LOCATION:Muskoka Chautauqua: Theatre in the Woods\, 1039 Golf Avenue\, Windermere Village\, ON\, P0B 1P0\, Canada
ATTACH;FMTTYPE=image/jpeg:https://www.muskokachautauqua.com/wp-content/uploads/2025/07/c891e643c84f0ceccfa47e01295a84c7-okm8Yu.tmp_.jpg
GEO:45.1665319;-79.5528834
X-APPLE-STRUCTURED-LOCATION;VALUE=URI;X-ADDRESS=Muskoka Chautauqua: Theatre in the Woods 1039 Golf Avenue Windermere Village ON P0B 1P0 Canada;X-APPLE-RADIUS=500;X-TITLE=1039 Golf Avenue:geo:-79.5528834,45.1665319
END:VEVENT
BEGIN:VEVENT
DTSTART;TZID=America/Toronto:20250803T193000
DTEND;TZID=America/Toronto:20250803T210000
DTSTAMP:20260422T200902
CREATED:20250610T162817Z
LAST-MODIFIED:20250803T234251Z
UID:10000756-1754249400-1754254800@www.muskokachautauqua.com
SUMMARY:An Acoustic Evening with Isla-Maria
DESCRIPTION:Enjoy an evening at Isla-Maria’s concert at the Theatre in the Woods. Sponsored by Mawer Investment Management.\n\n\nBorn in the small town of Bracebridge\, Ontario\, Isla-Maria grew up in a household that fostered creativity\, beginning her artistic journey at just three years old. From musical theatre to competitive dance\, these early experiences shaped her passion for performance. A fan of R&B\, pop\, rock\, and hip-hop\, she blends her influences into a distinctive style that’s uniquely her own. With innate songwriting talent and a fearless approach to exploring genres\, Isla-Maria continues to push boundaries and embrace new forms of artistic expression. \nMost recently\, 17-year-old Isla-Maria had the incredible opportunity to collaborate with several producers from Warner Music Canada and Marty Martino of Down with Webster. She also performed in Los Angeles at the iconic Hotel Ziggy and the Bourbon Room on Hollywood Boulevard in October 2024. In March 2025\, Isla-Maria will showcase her widely recognized song\, Attention Seeking\, at the Youth Musician Songwriters Showcase at Massey Hall in Toronto. She has also \nIn March 2024\, Isla-Maria’s self-penned songs Attention Seeking & Small Talk hit #1 on the aBreak58 Playlist\, earning international recognition and media coverage. Her latest track\, Small Talk\, is was featured on Apple Music’s New in Pop playlist. With over 10 original songs released and four more on the way\, she is gearing up for her debut EP in 2025. At the age of only 14\, Isla-Maria embarked on the Boys of Summer Tour\, gracing stages in major cities across the USA. She has also showcased her talent at prestigious events such as Canadian Music Week in Toronto and the Shake the Lake Music Festival in Bala\, Ontario. In February 2024\, her exceptional talent was recognized as she clinched 1st place at the Huntsville’s Got Talent competition. Additionally\, Isla-Maria captivated audiences with her own concerts\, delivering unforgettable performances to intimate crowds of 80. \nDining in Windermere during the Festival? \nEnjoy a 10% discount on all food and non-alcoholic beverages from Windermere House Pub during the festival! Show your tickets to the staff for the discount to be applied. Enjoy!
URL:https://www.muskokachautauqua.com/event/isla-maria-concert-theatre-in-the-woods/
LOCATION:Muskoka Chautauqua: Theatre in the Woods\, 1039 Golf Avenue\, Windermere Village\, ON\, P0B 1P0\, Canada
ATTACH;FMTTYPE=image/jpeg:https://www.muskokachautauqua.com/wp-content/uploads/2025/06/86e9382d27356d83ceaa57dd790b5d9f-YhON8w.tmp_.jpg
GEO:45.1665319;-79.5528834
X-APPLE-STRUCTURED-LOCATION;VALUE=URI;X-ADDRESS=Muskoka Chautauqua: Theatre in the Woods 1039 Golf Avenue Windermere Village ON P0B 1P0 Canada;X-APPLE-RADIUS=500;X-TITLE=1039 Golf Avenue:geo:-79.5528834,45.1665319
END:VEVENT
END:VCALENDAR