BEGIN:VCALENDAR
VERSION:2.0
PRODID:-//Muskoka Chautauqua - ECPv6.15.20//NONSGML v1.0//EN
CALSCALE:GREGORIAN
METHOD:PUBLISH
X-WR-CALNAME:Muskoka Chautauqua
X-ORIGINAL-URL:https://www.muskokachautauqua.com
X-WR-CALDESC:Events for Muskoka Chautauqua
REFRESH-INTERVAL;VALUE=DURATION:PT1H
X-Robots-Tag:noindex
X-PUBLISHED-TTL:PT1H
BEGIN:VTIMEZONE
TZID:America/Toronto
BEGIN:DAYLIGHT
TZOFFSETFROM:-0500
TZOFFSETTO:-0400
TZNAME:EDT
DTSTART:20240310T070000
END:DAYLIGHT
BEGIN:STANDARD
TZOFFSETFROM:-0400
TZOFFSETTO:-0500
TZNAME:EST
DTSTART:20241103T060000
END:STANDARD
BEGIN:DAYLIGHT
TZOFFSETFROM:-0500
TZOFFSETTO:-0400
TZNAME:EDT
DTSTART:20250309T070000
END:DAYLIGHT
BEGIN:STANDARD
TZOFFSETFROM:-0400
TZOFFSETTO:-0500
TZNAME:EST
DTSTART:20251102T060000
END:STANDARD
BEGIN:DAYLIGHT
TZOFFSETFROM:-0500
TZOFFSETTO:-0400
TZNAME:EDT
DTSTART:20260308T070000
END:DAYLIGHT
BEGIN:STANDARD
TZOFFSETFROM:-0400
TZOFFSETTO:-0500
TZNAME:EST
DTSTART:20261101T060000
END:STANDARD
END:VTIMEZONE
BEGIN:VEVENT
DTSTART;TZID=America/Toronto:20250801T130000
DTEND;TZID=America/Toronto:20250810T160000
DTSTAMP:20260422T212139
CREATED:20250727T133139Z
LAST-MODIFIED:20250810T163542Z
UID:10000783-1754053200-1754841600@www.muskokachautauqua.com
SUMMARY:Festival Pass
DESCRIPTION:Access to all of our evening concerts and the majority of daytime events. 10% savings from what purchasing each event individually would be.\n\n\nGain access to all of our evening concerts: \nNorthern Lights Steel Orchestra (Aug 1\, 7:30 – 9:00 PM ) \nCaroline Marie Brooks (Aug 2\, 7:30 – 9:00 PM) \nIsla Maria (Aug 3\, 7:30 – 9:00 PM) \nBeverlie Robertson & Friends (Aug 4\, 7:30 – 9:00 PM) \nTaizé Candlelit Service (Aug 5\, 6:30 – 7:30 PM) \nToronto All Star Big Band (Aug 7\, 7:30 – 9:00 PM) \nHer Romance (Aug 8\, 7:30 – 9:00 PM) \nSultans of Strings (Aug 9\, 7:30 – 9:00 PM) \n \nAswell as the following day time events: \nFestival Welcome & Opening ( Aug 1\, 3:00 PM) \nGallery Opening (Aug 1\, 4:00 PM) \nPop-Up Gallery in the Wood (Aug 2-9) \nPop-Up Bookshop (Aug 2-9) \nGuided Walking Tour (Aug 2-9 \,12:00 PM) \nAuthor Insights with Jeff Wilson (Aug 2\, 4:00 PM) \nMeet & Greet with the Artists (Aug 2\, 4\, 5\, 8\, 4:30) at Windermere House Pub \nClassical Lunch with Jen Tung ( Aug 3\, 12:30 PM) \nAuthor Insights with Patrick Boyer (Aug 3\, 4:00 PM) \nSpiral Flow with Audrey Jolly (Aug 4\, 9:30 AM) \nAuthor Insights with Audrey Jolly (Aug 4\, 4:00 PM) \nAuthor Insights with Sean O’Toole (Aug 5\, 4:00 PM) \nCommunity Conversation (Aug 6\, 3:30 PM) \nFlow Session with Pam Hubbard (Aug 7\,8\, 9:30 AM) \nAuthor Insights with Phillipa Cranston-Baran (Aug 8\, 4:00 PM) \nFamily Fun Day (Aug 10\, 11:00 AM)
URL:https://www.muskokachautauqua.com/event/whole-festival-evening-and-partial-day-pass/
LOCATION:Muskoka Chautauqua: Theatre in the Woods\, 1039 Golf Avenue\, Windermere Village\, ON\, P0B 1P0\, Canada
ATTACH;FMTTYPE=image/jpeg:https://www.muskokachautauqua.com/wp-content/uploads/2025/07/73775244837b8b0e78c01b32aeba5777-CFDJcB.tmp_.jpg
GEO:45.1665319;-79.5528834
X-APPLE-STRUCTURED-LOCATION;VALUE=URI;X-ADDRESS=Muskoka Chautauqua: Theatre in the Woods 1039 Golf Avenue Windermere Village ON P0B 1P0 Canada;X-APPLE-RADIUS=500;X-TITLE=1039 Golf Avenue:geo:-79.5528834,45.1665319
END:VEVENT
BEGIN:VEVENT
DTSTART;TZID=America/Toronto:20250804T093000
DTEND;TZID=America/Toronto:20250804T103000
DTSTAMP:20260422T212139
CREATED:20250610T145128Z
LAST-MODIFIED:20250804T093132Z
UID:10000747-1754299800-1754303400@www.muskokachautauqua.com
SUMMARY:Spiral Flow Wellness Session with Audrey Jolly
DESCRIPTION:Join Audrey Jolly as she takes you through a Flow Wellness Session.\n\n\nSpiral Flow – The very nature of our DNA is a spiral form. We develop in the womb in spiral waves of energy. This class taps into this deep flow through gentle movements\, breathing exercises and sound. We build flexibility\, strength and flow using spiral movements beginning with lying on our back\, progressing to sitting\, standing and moving through space. We connect with our body\, energy and flow through these deeply rooted movement patterns. Bring a mat or blanket and a bottle of water. I’ll see you on the beach in the morning. \nDining in Windermere during the Festival? \nEnjoy a 10% discount on all food and non-alcoholic beverages from Windermere House Pub during the festival! Show your tickets to the staff for the discount to be applied. Enjoy!
URL:https://www.muskokachautauqua.com/event/flow-wellness-session-audrey-jolly/
LOCATION:Windermere Wharf\, 2510 Windermere Road\, Windermere Village\, ON\, P0B 1P0\, Canada
ATTACH;FMTTYPE=image/jpeg:https://www.muskokachautauqua.com/wp-content/uploads/2025/06/febfef7ab7e15266089322fab959e79c-GOG6ho.tmp_.jpg
GEO:45.1637788;-79.5504094
X-APPLE-STRUCTURED-LOCATION;VALUE=URI;X-ADDRESS=Windermere Wharf 2510 Windermere Road Windermere Village ON P0B 1P0 Canada;X-APPLE-RADIUS=500;X-TITLE=2510 Windermere Road:geo:-79.5504094,45.1637788
END:VEVENT
BEGIN:VEVENT
DTSTART;TZID=America/Toronto:20250804T100000
DTEND;TZID=America/Toronto:20250804T150000
DTSTAMP:20260422T212139
CREATED:20250610T162715Z
LAST-MODIFIED:20250804T093138Z
UID:10000750-1754301600-1754319600@www.muskokachautauqua.com
SUMMARY:Metal Etching Workshop with Miranda Britton
DESCRIPTION:Create stunning copper and brass jewellery from your own drawings!\n\n\nThis is a 4 hour workshop with a 1 hour break from 12-1 to explore the village. \nCreate stunning copper and brass jewellery from your own drawings! Using ferric chloride as an etchant\, students will transfer images and drawings onto sheets of brass or copper that can then be shaped into various pieces of jewellery (earrings\, pendants or cuff bracelets) using simple tools. Basic jewellery design principles will be discussed and an introduction to jewellery tools will be provided. Not interested in making jewellery? Participants can also make etched bookmarks\, plaques or keychains! \nDining in Windermere during the Festival? \nEnjoy a 10% discount on all food and non-alcoholic beverages from Windermere House Pub during the festival! Show your tickets to the staff for the discount to be applied. Enjoy!
URL:https://www.muskokachautauqua.com/event/copper-etching-workshop-miranda-britton/
LOCATION:Muskoka Chautauqua\, 1039 Golf Avenue\, Windermere Village\, ON\, P0B 1P0\, Canada
ATTACH;FMTTYPE=image/jpeg:https://www.muskokachautauqua.com/wp-content/uploads/2025/08/e93fca399b14189ad7ce0d87184b2f77-H29TZ2.tmp_.jpg
GEO:45.1665319;-79.5528834
X-APPLE-STRUCTURED-LOCATION;VALUE=URI;X-ADDRESS=Muskoka Chautauqua 1039 Golf Avenue Windermere Village ON P0B 1P0 Canada;X-APPLE-RADIUS=500;X-TITLE=1039 Golf Avenue:geo:-79.5528834,45.1665319
END:VEVENT
BEGIN:VEVENT
DTSTART;TZID=America/Toronto:20250804T100000
DTEND;TZID=America/Toronto:20250804T160000
DTSTAMP:20260422T212139
CREATED:20250606T160410Z
LAST-MODIFIED:20250804T093135Z
UID:10000727-1754301600-1754323200@www.muskokachautauqua.com
SUMMARY:Gallery in The Woods: "The Muse\, the Maker & the Creative Flow"
DESCRIPTION:Come visit our art gallery\, filled with art from our festival workshop leaders\, open at 10 AM August 2-9.\n\n\n*A ticket is not required for entry to the Gallery in the Woods \nVisit the Gallery in the Woods each day from August 2nd-9th starting at 10 AM at our Festival Site! See below for the Exhibition Statement for this body of featured work: \nThe Muse\, The Maker\, and the Creative Flow is an exploration of artistic inspiration\, craftsmanship\, and the dynamic energy that connects them. We delve into the relationship between the visionary spark\, the act of creation\, and the fluid movement of ideas that shape our work. \nArtists and creators are guided by a muse\, driven by a maker’s hand\, and carried by the creative flow that transforms raw material into expression. Whether through paint\, sculpture\, mixed media\, writing or making music\, our works embody the tension and harmony between idea and execution\, chaos and structure\, intuition and intention. \nLike a river that bends and reshapes its course\, creativity is ever-moving\, influenced by unseen currents and inner dialogues. We invite viewers to step into that stream—to witness the push and pull between inspiration and craft\, to feel the rhythm that fuels artistic practice\, and to reflect on their own place within the cycle of creation. \nVisit the Gallery in the Woods to view beautiful works from the following artists: \n\nToller Cranston \nMiranda Britton\nGayle Dempsey\nGreg Hindle\nSusan Hindle\nAudrey Jolly\nKaren Lang\nLinda Montgomery\nBonnie Newell\nLisa Skelding\nSharon Wagner-Chazalon\n\nDining in Windermere during the Festival? \nEnjoy a 10% discount on all food and non-alcoholic beverages from Windermere House Pub during the festival! Show your tickets to the staff for the discount to be applied. Enjoy!
URL:https://www.muskokachautauqua.com/event/gallery-in-the-woods-12/
LOCATION:Muskoka Chautauqua: Gallery in the Woods\, 1039 Golf Avenue\, Windermere Village\, ON\, P0B 1P0\, Canada
ATTACH;FMTTYPE=image/jpeg:https://www.muskokachautauqua.com/wp-content/uploads/2025/06/650e62c60e610d7e75df1dc3829624aa-bODeVR.tmp_.jpg
GEO:45.1656304;-79.5531233
X-APPLE-STRUCTURED-LOCATION;VALUE=URI;X-ADDRESS=Muskoka Chautauqua: Gallery in the Woods 1039 Golf Avenue Windermere Village ON P0B 1P0 Canada;X-APPLE-RADIUS=500;X-TITLE=1039 Golf Avenue:geo:-79.5531233,45.1656304
END:VEVENT
BEGIN:VEVENT
DTSTART;TZID=America/Toronto:20250804T100000
DTEND;TZID=America/Toronto:20250804T160000
DTSTAMP:20260422T212139
CREATED:20250611T154840Z
LAST-MODIFIED:20250804T093141Z
UID:10000771-1754301600-1754323200@www.muskokachautauqua.com
SUMMARY:Pop-Up Book Shop
DESCRIPTION:Our Book Shop is open throughout the festival\, August 2-9\, every day\, 10am-4pm. Come browse and purchase books from our literary guests!\n\n\n*A ticket is not required for entry into the bookstore \nThe muse\, the maker\, and the creative flow. \nThe Book Shop is our unofficial welcome centre for the Festival as well as a host of beautiful works including books by some of our Chautauqua Festival line up as well as other local authors. \nThis year\, we are thrilled to welcome the Alcuin Society Award-Winning Books for Excellence in Book Design back to the festival! Don’t miss the opportunity to see the 2024 winners on display. \nDining in Windermere during the Festival? \nEnjoy a 10% discount on all food and non-alcoholic beverages from Windermere House Pub during the festival! Show your tickets to the staff for the discount to be applied. Enjoy!
URL:https://www.muskokachautauqua.com/event/pop-up-book-shop-the-muse-the-maker-the-creative-flow-4/
LOCATION:2496 Windermere Rd\, 2496 Windermere Road\, Windermere\, ON\, P0B 1P0\, Canada
ATTACH;FMTTYPE=image/jpeg:https://www.muskokachautauqua.com/wp-content/uploads/2025/06/b26b0bc6936d9d51f5f2fcf814d00f1b-WxlZDL.tmp_.jpg
GEO:45.1656948;-79.5486134
X-APPLE-STRUCTURED-LOCATION;VALUE=URI;X-ADDRESS=2496 Windermere Rd 2496 Windermere Road Windermere ON P0B 1P0 Canada;X-APPLE-RADIUS=500;X-TITLE=2496 Windermere Road:geo:-79.5486134,45.1656948
END:VEVENT
BEGIN:VEVENT
DTSTART;TZID=America/Toronto:20250804T120000
DTEND;TZID=America/Toronto:20250804T130000
DTSTAMP:20260422T212139
CREATED:20250606T160253Z
LAST-MODIFIED:20250804T093143Z
UID:10000719-1754308800-1754312400@www.muskokachautauqua.com
SUMMARY:Windermere History Walking Tour (Mon Aug 4)
DESCRIPTION:Uncover the unique charm of Windermere Village through this walking tour created in partnership with the Windermere Women’s Institute.\n\n\nDid you know Muskoka Chautauqua started in Windermere more than 100 years ago? \nRediscover this charming historic village with us through a walking tour created in partnership with the Windermere History project\, the Windermere Women’s Institute\, Architectural Conservancy Ontario (Muskoka Branch) and Muskoka Chautauqua. \nThis small group tour will give you an overview of the early history of the village along with some interesting anecdotal stories. The guided tour is available daily from Saturday to Saturday during the festival\, or you can access the tour on our app (https://windermerehistoryproject.ca/dl/d0a5f4) …and make you way around the village on a self-guided tour. \n———– \nDining in Windermere during the Festival? \nEnjoy a 10% discount on all food and non-alcoholic beverages from Windermere House Pub during the festival! Show your tickets to the staff for the discount to be applied. Enjoy!
URL:https://www.muskokachautauqua.com/event/windermere-history-walking-tour-mon-aug-4/
LOCATION:Muskoka Chautauqua\, 1039 Golf Avenue\, Windermere Village\, ON\, P0B 1P0\, Canada
ATTACH;FMTTYPE=image/jpeg:https://www.muskokachautauqua.com/wp-content/uploads/2025/06/e4166d15d86e082610b553d5bb7ccd51-ihUsJW.tmp_.jpg
GEO:45.1665319;-79.5528834
X-APPLE-STRUCTURED-LOCATION;VALUE=URI;X-ADDRESS=Muskoka Chautauqua 1039 Golf Avenue Windermere Village ON P0B 1P0 Canada;X-APPLE-RADIUS=500;X-TITLE=1039 Golf Avenue:geo:-79.5528834,45.1665319
END:VEVENT
BEGIN:VEVENT
DTSTART;TZID=America/Toronto:20250804T160000
DTEND;TZID=America/Toronto:20250804T173000
DTSTAMP:20260422T212139
CREATED:20250610T145228Z
LAST-MODIFIED:20250804T093312Z
UID:10000749-1754323200-1754328600@www.muskokachautauqua.com
SUMMARY:Audrey Jolly at the Theatre in the Woods
DESCRIPTION:Through theatre & the written word this performance captures the passion that fuels us as writers and explores the challenges we face.\n\n\nThrough theatre & the written word this performance captures the passion that fuels us as writers and explores the challenges we face while we engage with our literary Muse. We have a multitude of inner selves what we operate from. The creative self often has a life of its own not necessarily related to or sympathetic towards other more practical parts of the self. In theatre we call the practical self our ‘chop wood/fetch water self’. She is the one that remembers to pick up the milk at the end of the day after an altered reality adventure through the infinite world of our imagination where creativity lives and thrives. Our need for exercise\, food and outer relationships take a back seat when the creative muse takes over. This may present certain dilemmas for us to grapple with in our day-to-day lives. \nWe begin with a physical theatre piece that depicts the challenges of these inner parts followed by a story entitled ‘Write Now’ which describes this process through writing. The audience is invited to explore their own creative process\, what fuels it and what challenges it. This is done through writing\, sharing\, and questions. A brief discussion of how I got to this moment in my own evolution as artist\, teacher and psychotherapist will be shared. My hope is that you tap into your own unique selves\, your curiosity and courage\, recognizing there are infinite worlds and depths within you waiting for you to dip into\, capture and share with the world. \nAudrey Jolly \nRegistered Psychotherapist with the College of Registered Psychotherapists of Ontario (CRPO) 2015 \nAuthor of: On the Back of the Wildebeest – The Healing Power of Creativity\, 2020 \nDining in Windermere during the Festival? \nEnjoy a 10% discount on all food and non-alcoholic beverages from Windermere House Pub during the festival! Show your tickets to the staff for the discount to be applied. Enjoy!
URL:https://www.muskokachautauqua.com/event/audrey-jolly-theatre-in-the-woods/
LOCATION:Muskoka Chautauqua: Theatre in the Woods\, 1039 Golf Avenue\, Windermere Village\, ON\, P0B 1P0\, Canada
ATTACH;FMTTYPE=image/jpeg:https://www.muskokachautauqua.com/wp-content/uploads/2025/07/bdc11c88954ec0419c05a6f0e5611de4-d4Lfnb.tmp_.jpg
GEO:45.1665319;-79.5528834
X-APPLE-STRUCTURED-LOCATION;VALUE=URI;X-ADDRESS=Muskoka Chautauqua: Theatre in the Woods 1039 Golf Avenue Windermere Village ON P0B 1P0 Canada;X-APPLE-RADIUS=500;X-TITLE=1039 Golf Avenue:geo:-79.5528834,45.1665319
END:VEVENT
BEGIN:VEVENT
DTSTART;TZID=America/Toronto:20250804T160000
DTEND;TZID=America/Toronto:20250804T173000
DTSTAMP:20260422T212139
CREATED:20250716T174132Z
LAST-MODIFIED:20250804T093146Z
UID:10000780-1754323200-1754328600@www.muskokachautauqua.com
SUMMARY:Artist Meet & Greet with Beverlie Robertson & Friends
DESCRIPTION:Stop by the Windermere House Pub to grab a bite or a drink and mingle with Beverlie Robertson & Friends\n\n\nMeet & Greet \nConnect with the creative minds behind the festival! This informal gathering is a chance to meet festival contributors\, ask questions about their work\, and enjoy casual conversation in a relaxed setting. Bring your curiosity\, grab a snack or drink at the Windermere House Pub\, and soak up the inspiring atmosphere. \nDining in Windermere during the Festival? \nEnjoy a 10% discount on all food and non-alcoholic beverages from Windermere House Pub during the festival! Show your tickets to the staff for the discount to be applied. Enjoy!
URL:https://www.muskokachautauqua.com/event/artist-meet-greet-with-beverlie-robertson-friends/
LOCATION:Windermere House\, 2508 Windermere Road\, Windermere\, ON\, P0B 1M0\, Canada
ATTACH;FMTTYPE=image/jpeg:https://www.muskokachautauqua.com/wp-content/uploads/2025/07/a89143875dfd8fa82a2ef3abce746936-3xoaks.tmp_.jpg
GEO:45.1644382;-79.5496089
X-APPLE-STRUCTURED-LOCATION;VALUE=URI;X-ADDRESS=Windermere House 2508 Windermere Road Windermere ON P0B 1M0 Canada;X-APPLE-RADIUS=500;X-TITLE=2508 Windermere Road:geo:-79.5496089,45.1644382
END:VEVENT
BEGIN:VEVENT
DTSTART;TZID=America/Toronto:20250804T193000
DTEND;TZID=America/Toronto:20250804T210000
DTSTAMP:20260422T212139
CREATED:20250610T162728Z
LAST-MODIFIED:20250804T093156Z
UID:10000753-1754335800-1754341200@www.muskokachautauqua.com
SUMMARY:Folk Night with Beverlie Robertson & Friends
DESCRIPTION:“Muskoka Music in the Air” – Famed Muskoka musical artists\, Mike Phillips (the Mighty Lopez)\, Po Cholly & Beverlie Robertson\n\n\n“Muskoka Music in the Air” – Famed Muskoka musical artists\, Mike Phillips (the Mighty Lopez)\, Grady Kelneck\, Po Cholly & Beverlie Robertson present a collection of songs loved by their Muskoka audiences over the years. Some songs are traditional\, some composed by themselves & their friends & some have great choruses to sing along. The evening is a celebration of the everlasting joy & comraderie that the sharing of music brings to all. Come & share the love! \nBEVERLIE ROBERTSON: \nAs a member of the trio The Chanteclairs\, Beverlie travelled widely and performed at festivals such as the Mariposa Folk Festival\, the Fredericton Jazz & Blues Festival\, and at venues from The Riverboat to Massey Hall\, Maple Leaf Gardens and the CNE Grandstand. She played on the CBC\, CTV\, BBC\, US and European TV networks. She grew up with the New Orleans and Tin Pan Alley blues played by the many jazz and blues artists who came to her parents home after gigs. Peter Gzowski called her a pioneer in Canadian music. Her latest book is “With Knowing Eyes; Canadian Women in Song”. \nMIKE (LOPEZ) PHILLIPS is a fine singer & a brilliant musician; if it has strings or keys\, Mike plays it well. He has a big baritone voice & a great way with a song. Not only does he relate well with audiences\, he entertains them\, all while personally inhabiting his songs\, whether an old time country tune\, a familiar sing along or one of his own nicely crafted songs. Raised in the “kitchen parties” of PEI\, he travelled to the streets of Vancouver\, learning how to squeeze the accordion\, moved to Toronto singing and picking guitar & playing bass with the jugband Jughead\, which wrote & recorded the “Hockey Song” in ‘93 & was awarded a gold record. Performing on the accordion\, banjo ukelele\, 6 & 12 string guitar\, & stand-up bass\, Lopez continues to delight audiences with his eclectic mix of “roots” music\, classic & original. \nPO CHOLLY has been an itinerant bluesman for 50 years\, traveling the globe\, hosting concerts and conducting workshops. He is well-known for his blues harp styles\, slide guitar and traditional blues. He has played with the Gypsy Kings in France\, tango bands in Argentina\, reggae players in Jamaica\, and flamenco dancers in Spain\, where his passion for the blues has always erased national and political borders and brought strange bedfellows together to share the music. \nGRADY KELNECK is a Toronto-based Canadian folk-roots singer-songwriter and multi-instrumentalist known for his rich vocals and honest\, heartfelt storytelling. Raised in a musical family\, he’s performed since childhood and has toured across Canada\, sharing stages with artists like Hot Hot Heat and The Dears. Grady was a founding member of indie-rock band The Parkas and won the Steve’s Music Emerging Artist Award. His acclaimed solo album Take My Hand showcases his blend of folk\, country\, and roots influences inspired by Townes Van Zandt and John Prine. Grady continues to write\, record\, and perform\, championing Canada’s vibrant roots music scene. \nDining in Windermere during the Festival? \nEnjoy a 10% discount on all food and non-alcoholic beverages from Windermere House Pub during the festival! Show your tickets to the staff for the discount to be applied. Enjoy!
URL:https://www.muskokachautauqua.com/event/folk-night-with-beverlie-robertson-friends/
LOCATION:Muskoka Chautauqua: Theatre in the Woods\, 1039 Golf Avenue\, Windermere Village\, ON\, P0B 1P0\, Canada
ATTACH;FMTTYPE=image/jpeg:https://www.muskokachautauqua.com/wp-content/uploads/2025/06/a508678dd6b449fc31aacc1822ed6d82-ZmoeuK.tmp_.jpg
GEO:45.1665319;-79.5528834
X-APPLE-STRUCTURED-LOCATION;VALUE=URI;X-ADDRESS=Muskoka Chautauqua: Theatre in the Woods 1039 Golf Avenue Windermere Village ON P0B 1P0 Canada;X-APPLE-RADIUS=500;X-TITLE=1039 Golf Avenue:geo:-79.5528834,45.1665319
END:VEVENT
END:VCALENDAR