BEGIN:VCALENDAR
VERSION:2.0
PRODID:-//Muskoka Chautauqua - ECPv6.15.20//NONSGML v1.0//EN
CALSCALE:GREGORIAN
METHOD:PUBLISH
X-ORIGINAL-URL:https://www.muskokachautauqua.com
X-WR-CALDESC:Events for Muskoka Chautauqua
REFRESH-INTERVAL;VALUE=DURATION:PT1H
X-Robots-Tag:noindex
X-PUBLISHED-TTL:PT1H
BEGIN:VTIMEZONE
TZID:America/Toronto
BEGIN:DAYLIGHT
TZOFFSETFROM:-0500
TZOFFSETTO:-0400
TZNAME:EDT
DTSTART:20240310T070000
END:DAYLIGHT
BEGIN:STANDARD
TZOFFSETFROM:-0400
TZOFFSETTO:-0500
TZNAME:EST
DTSTART:20241103T060000
END:STANDARD
BEGIN:DAYLIGHT
TZOFFSETFROM:-0500
TZOFFSETTO:-0400
TZNAME:EDT
DTSTART:20250309T070000
END:DAYLIGHT
BEGIN:STANDARD
TZOFFSETFROM:-0400
TZOFFSETTO:-0500
TZNAME:EST
DTSTART:20251102T060000
END:STANDARD
BEGIN:DAYLIGHT
TZOFFSETFROM:-0500
TZOFFSETTO:-0400
TZNAME:EDT
DTSTART:20260308T070000
END:DAYLIGHT
BEGIN:STANDARD
TZOFFSETFROM:-0400
TZOFFSETTO:-0500
TZNAME:EST
DTSTART:20261101T060000
END:STANDARD
BEGIN:DAYLIGHT
TZOFFSETFROM:-0500
TZOFFSETTO:-0400
TZNAME:EDT
DTSTART:20270314T070000
END:DAYLIGHT
BEGIN:STANDARD
TZOFFSETFROM:-0400
TZOFFSETTO:-0500
TZNAME:EST
DTSTART:20271107T060000
END:STANDARD
END:VTIMEZONE
BEGIN:VEVENT
DTSTART;TZID=America/Toronto:20250801T130000
DTEND;TZID=America/Toronto:20250810T160000
DTSTAMP:20260422T223954
CREATED:20250727T133139Z
LAST-MODIFIED:20250810T163542Z
UID:10000783-1754053200-1754841600@www.muskokachautauqua.com
SUMMARY:Festival Pass
DESCRIPTION:Access to all of our evening concerts and the majority of daytime events. 10% savings from what purchasing each event individually would be.\n\n\nGain access to all of our evening concerts: \nNorthern Lights Steel Orchestra (Aug 1\, 7:30 – 9:00 PM ) \nCaroline Marie Brooks (Aug 2\, 7:30 – 9:00 PM) \nIsla Maria (Aug 3\, 7:30 – 9:00 PM) \nBeverlie Robertson & Friends (Aug 4\, 7:30 – 9:00 PM) \nTaizé Candlelit Service (Aug 5\, 6:30 – 7:30 PM) \nToronto All Star Big Band (Aug 7\, 7:30 – 9:00 PM) \nHer Romance (Aug 8\, 7:30 – 9:00 PM) \nSultans of Strings (Aug 9\, 7:30 – 9:00 PM) \n \nAswell as the following day time events: \nFestival Welcome & Opening ( Aug 1\, 3:00 PM) \nGallery Opening (Aug 1\, 4:00 PM) \nPop-Up Gallery in the Wood (Aug 2-9) \nPop-Up Bookshop (Aug 2-9) \nGuided Walking Tour (Aug 2-9 \,12:00 PM) \nAuthor Insights with Jeff Wilson (Aug 2\, 4:00 PM) \nMeet & Greet with the Artists (Aug 2\, 4\, 5\, 8\, 4:30) at Windermere House Pub \nClassical Lunch with Jen Tung ( Aug 3\, 12:30 PM) \nAuthor Insights with Patrick Boyer (Aug 3\, 4:00 PM) \nSpiral Flow with Audrey Jolly (Aug 4\, 9:30 AM) \nAuthor Insights with Audrey Jolly (Aug 4\, 4:00 PM) \nAuthor Insights with Sean O’Toole (Aug 5\, 4:00 PM) \nCommunity Conversation (Aug 6\, 3:30 PM) \nFlow Session with Pam Hubbard (Aug 7\,8\, 9:30 AM) \nAuthor Insights with Phillipa Cranston-Baran (Aug 8\, 4:00 PM) \nFamily Fun Day (Aug 10\, 11:00 AM)
URL:https://www.muskokachautauqua.com/event/whole-festival-evening-and-partial-day-pass/
LOCATION:Muskoka Chautauqua: Theatre in the Woods\, 1039 Golf Avenue\, Windermere Village\, ON\, P0B 1P0\, Canada
ATTACH;FMTTYPE=image/jpeg:https://www.muskokachautauqua.com/wp-content/uploads/2025/07/73775244837b8b0e78c01b32aeba5777-CFDJcB.tmp_.jpg
GEO:45.1665319;-79.5528834
X-APPLE-STRUCTURED-LOCATION;VALUE=URI;X-ADDRESS=Muskoka Chautauqua: Theatre in the Woods 1039 Golf Avenue Windermere Village ON P0B 1P0 Canada;X-APPLE-RADIUS=500;X-TITLE=1039 Golf Avenue:geo:-79.5528834,45.1665319
END:VEVENT
BEGIN:VEVENT
DTSTART;TZID=America/Toronto:20250810T110000
DTEND;TZID=America/Toronto:20250810T160000
DTSTAMP:20260422T223954
CREATED:20250530T192413Z
LAST-MODIFIED:20250810T163545Z
UID:10000706-1754823600-1754841600@www.muskokachautauqua.com
SUMMARY:Windermere Family Fun Day!
DESCRIPTION:Fun for the whole family at the Wharf in Windermere Village! Face painting\, arts & crafts\, canoe races and more! Don’t miss it!\n\n\nWindermere Family Fun Day promises an exciting day filled with activities for the whole family from 11am to 4pm at the Windermere Wharf.Kids can interact with the internationally renowned Sultans of String\, who will be performing up front to kick off the festivities\, and enjoy watersports provided by Windermere House.Families can explore the TD Bank Family Fun Booth\, complete with GIANT colouring on the Monster Mural\, indulge in treats from the Women’s Institute Bake Sale\, and savour delicious offerings from the Lion’s Club BBQ.Creative activities include face painting by Mallory Tingey\, arts and crafts with Mike Benton\, paddle making with Jim\, and painting Muskoka postcards with Sarah Grigorescu—sure to inspire young artists. The Fire Department’s Fire Truck Spray Down and children’s beach games promise outdoor excitement.Additionally\, the Rosseau Golf Pitch by Windermere Golf and Country Club offers a chance for some fun golfing activities – sink a hole-in-one to a boat anchored in the lake!Family canoe races will be in full swing along with the second annual Windermere Business Canoe Race! Come and cheer on your favourite community team!This event is sure to be a memorable day of fun\, creativity\, and community spirit! \nChris McKhool’s Fiddlefire! Kids ShowHailed as “Canada’s greatest eco-troubadour for young people\,” Chris McKhool has inspired over 1 million children with his upbeat\, interactive concerts. Fiddlefire! gets kids singing\, dancing\, and playing rare instruments from around the world while exploring musical styles like jazz\, blues\, flamenco\, funk\, and East Coast fiddling. Chris and his Sultans of String bandmates lead kids in rhythm\, melody\, improvisation—and plenty of fun! With multiple Parents’ Choice Awards\, a Canadian Folk Music Award\, and a JUNO nomination\, Chris is also known for his commitment to the environment and social change through music. \nDining in Windermere? \nEnjoy a 10% discount on all food and beverage from Windermere House Pub during the festival! Show your tickets to the staff for the discount to be applied. Enjoy!
URL:https://www.muskokachautauqua.com/event/windermere-family-fun-day-3/
LOCATION:Windermere Wharf\, 2510 Windermere Road\, Windermere Village\, ON\, P0B 1P0\, Canada
ATTACH;FMTTYPE=image/jpeg:https://www.muskokachautauqua.com/wp-content/uploads/2025/06/a1d3926082f296de76e9ba4d3399ce04-b5WtAl.tmp_.jpg
GEO:45.1637788;-79.5504094
X-APPLE-STRUCTURED-LOCATION;VALUE=URI;X-ADDRESS=Windermere Wharf 2510 Windermere Road Windermere Village ON P0B 1P0 Canada;X-APPLE-RADIUS=500;X-TITLE=2510 Windermere Road:geo:-79.5504094,45.1637788
END:VEVENT
BEGIN:VEVENT
DTSTART;TZID=America/Toronto:20260406T170000
DTEND;TZID=America/Toronto:20260406T193000
DTSTAMP:20260422T223954
CREATED:20260226T040515Z
LAST-MODIFIED:20260226T151822Z
UID:10000785-1775494800-1775503800@www.muskokachautauqua.com
SUMMARY:An Evening Aboard the Wenonah II in Support of Muskoka Chautauqua
DESCRIPTION:Join us for a summer cocktail cruise celebrating arts\, culture\, and community\, supporting Muskoka Chautauqua. Early-bird sale end on May 1.\n\n\nJoin us for a timeless Muskoka evening aboard the historic Wenonah II.This special fundraiser brings together community leaders\, philanthropists\, and arts supporters for an unforgettable golden-hour cruise in support of Muskoka Chautauqua. Expect curated food and beverage\, live entertainment\, and meaningful connection. \nThis is more than a fundraiser\, it is a celebration of tradition\, culture and the shared experiences that define summer in Muskoka. \nWe hope you’ll join us! \nWhy this event matters \nMuskoka Chautauqua plays a vital role in enriching the region’s cultural life — and continued programming depends on philanthropic support. This evening helps ensure arts\, ideas\, and community conversations continue to thrive in Muskoka. \nEvent Co-Chairs: Erin Lang\, Lindsay Jephcott\, Robyn Rider. \n \nDate: Thursday\, August 6Time: 5:00 PM – 7:30 PMLocation: Windermere\, Muskoka (boarding details provided upon registration)
URL:https://www.muskokachautauqua.com/event/an-evening-aboard-the-wenonah-ii-in-support-of-muskoka-chautauqua/
LOCATION:Windermere Wharf\, 2510 Windermere Road\, Windermere Village\, ON\, P0B 1P0\, Canada
ATTACH;FMTTYPE=image/jpeg:https://www.muskokachautauqua.com/wp-content/uploads/2026/02/8a5f59c359d1c999eb404a355577858b-AfnWId.tmp_.jpg
GEO:45.1637788;-79.5504094
X-APPLE-STRUCTURED-LOCATION;VALUE=URI;X-ADDRESS=Windermere Wharf 2510 Windermere Road Windermere Village ON P0B 1P0 Canada;X-APPLE-RADIUS=500;X-TITLE=2510 Windermere Road:geo:-79.5504094,45.1637788
END:VEVENT
END:VCALENDAR